Package: frmaExampleData Version: 1.47.0 Command: /home/biocbuild/bbs-3.23-bioc/R/bin/R CMD INSTALL frmaExampleData StartedAt: 2025-11-27 10:55:28 -0500 (Thu, 27 Nov 2025) EndedAt: 2025-11-27 10:55:31 -0500 (Thu, 27 Nov 2025) EllapsedTime: 3.1 seconds RetCode: 0 Status: OK