Package: flowWorkspaceData Version: 3.23.0 Command: /home/biocbuild/bbs-3.23-bioc/R/bin/R CMD build --keep-empty-dirs --no-resave-data flowWorkspaceData StartedAt: 2025-11-27 11:18:41 -0500 (Thu, 27 Nov 2025) EndedAt: 2025-11-27 11:18:57 -0500 (Thu, 27 Nov 2025) EllapsedTime: 15.3 seconds RetCode: 0 Status: OK PackageFile: flowWorkspaceData_3.23.0.tar.gz PackageFileSize: 71.15 MiB