Package: VectraPolarisData Version: 1.15.0 Command: /home/biocbuild/bbs-3.23-bioc/R/bin/R CMD INSTALL VectraPolarisData StartedAt: 2025-11-27 11:00:27 -0500 (Thu, 27 Nov 2025) EndedAt: 2025-11-27 11:00:56 -0500 (Thu, 27 Nov 2025) EllapsedTime: 29.1 seconds RetCode: 0 Status: OK