Package: TCGAWorkflowData Version: 1.35.0 Command: /home/biocbuild/bbs-3.23-bioc/R/bin/R CMD INSTALL TCGAWorkflowData StartedAt: 2025-11-27 11:03:56 -0500 (Thu, 27 Nov 2025) EndedAt: 2025-11-27 11:04:57 -0500 (Thu, 27 Nov 2025) EllapsedTime: 61.1 seconds RetCode: 0 Status: OK