Package: TCGAWorkflowData Version: 1.35.0 Command: /home/biocbuild/bbs-3.23-bioc/R/bin/R CMD build --keep-empty-dirs --no-resave-data TCGAWorkflowData StartedAt: 2025-11-27 11:45:18 -0500 (Thu, 27 Nov 2025) EndedAt: 2025-11-27 11:47:50 -0500 (Thu, 27 Nov 2025) EllapsedTime: 152.0 seconds RetCode: 0 Status: OK PackageFile: TCGAWorkflowData_1.35.0.tar.gz PackageFileSize: 68.83 MiB