Package: SubcellularSpatialData Version: 1.7.0 Command: /home/biocbuild/bbs-3.23-bioc/R/bin/R CMD build --keep-empty-dirs --no-resave-data SubcellularSpatialData StartedAt: 2025-11-27 11:43:46 -0500 (Thu, 27 Nov 2025) EndedAt: 2025-11-27 11:44:51 -0500 (Thu, 27 Nov 2025) EllapsedTime: 64.5 seconds RetCode: 0 Status: OK PackageFile: SubcellularSpatialData_1.7.0.tar.gz PackageFileSize: 2.311 MiB