Package: SpatialDatasets Version: 1.9.0 Command: /home/biocbuild/bbs-3.23-bioc/R/bin/R CMD INSTALL SpatialDatasets StartedAt: 2025-11-27 10:58:35 -0500 (Thu, 27 Nov 2025) EndedAt: 2025-11-27 10:59:04 -0500 (Thu, 27 Nov 2025) EllapsedTime: 28.9 seconds RetCode: 0 Status: OK