Package: SpatialDatasets Version: 1.9.0 Command: /home/biocbuild/bbs-3.23-bioc/R/bin/R CMD check --install=check:SpatialDatasets.install-out.txt --library=/home/biocbuild/bbs-3.23-bioc/R/site-library --timings SpatialDatasets_1.9.0.tar.gz StartedAt: 2025-11-27 13:04:20 -0500 (Thu, 27 Nov 2025) EndedAt: 2025-11-27 13:25:15 -0500 (Thu, 27 Nov 2025) EllapsedTime: 1255.2 seconds RetCode: 0 Status: WARNINGS CheckDir: SpatialDatasets.Rcheck Warnings: 3