Package: SimBenchData Version: 1.19.0 Command: /home/biocbuild/bbs-3.23-bioc/R/bin/R CMD INSTALL SimBenchData StartedAt: 2025-11-27 10:57:31 -0500 (Thu, 27 Nov 2025) EndedAt: 2025-11-27 10:57:46 -0500 (Thu, 27 Nov 2025) EllapsedTime: 14.5 seconds RetCode: 0 Status: OK