Package: RUVnormalizeData Version: 1.31.0 Command: /home/biocbuild/bbs-3.23-bioc/R/bin/R CMD build --keep-empty-dirs --no-resave-data RUVnormalizeData StartedAt: 2025-11-27 11:39:59 -0500 (Thu, 27 Nov 2025) EndedAt: 2025-11-27 11:40:06 -0500 (Thu, 27 Nov 2025) EllapsedTime: 7.0 seconds RetCode: 0 Status: OK PackageFile: RUVnormalizeData_1.31.0.tar.gz PackageFileSize: 7.726 MiB