Package: RTCGA.rnaseq Version: 20151101.41.0 Command: /home/biocbuild/bbs-3.23-bioc/R/bin/R CMD INSTALL RTCGA.rnaseq StartedAt: 2025-11-27 11:04:22 -0500 (Thu, 27 Nov 2025) EndedAt: 2025-11-27 11:07:05 -0500 (Thu, 27 Nov 2025) EllapsedTime: 163.0 seconds RetCode: 0 Status: OK