Package: RTCGA.mutations Version: 20151101.41.0 Command: /home/biocbuild/bbs-3.23-bioc/R/bin/R CMD INSTALL RTCGA.mutations StartedAt: 2025-11-27 11:04:21 -0500 (Thu, 27 Nov 2025) EndedAt: 2025-11-27 11:07:29 -0500 (Thu, 27 Nov 2025) EllapsedTime: 187.3 seconds RetCode: 0 Status: OK