Package: RTCGA.mutations Version: 20151101.41.0 Command: /home/biocbuild/bbs-3.23-bioc/R/bin/R CMD build --keep-empty-dirs --no-resave-data RTCGA.mutations StartedAt: 2025-11-27 11:39:28 -0500 (Thu, 27 Nov 2025) EndedAt: 2025-11-27 11:42:51 -0500 (Thu, 27 Nov 2025) EllapsedTime: 203.0 seconds RetCode: 0 Status: OK PackageFile: RTCGA.mutations_20151101.41.0.tar.gz PackageFileSize: 103.8 MiB