Package: RTCGA.methylation Version: 1.39.0 Command: /home/biocbuild/bbs-3.23-bioc/R/bin/R CMD build --keep-empty-dirs --no-resave-data RTCGA.methylation StartedAt: 2025-11-27 11:38:58 -0500 (Thu, 27 Nov 2025) EndedAt: 2025-11-27 11:42:09 -0500 (Thu, 27 Nov 2025) EllapsedTime: 190.6 seconds RetCode: 0 Status: OK PackageFile: RTCGA.methylation_1.39.0.tar.gz PackageFileSize: 622.8 MiB