Package: QDNAseq.hg19 Version: 1.41.0 Command: /home/biocbuild/bbs-3.23-bioc/R/bin/R CMD build --keep-empty-dirs --no-resave-data QDNAseq.hg19 StartedAt: 2025-11-27 11:36:40 -0500 (Thu, 27 Nov 2025) EndedAt: 2025-11-27 11:36:43 -0500 (Thu, 27 Nov 2025) EllapsedTime: 3.3 seconds RetCode: 0 Status: OK PackageFile: QDNAseq.hg19_1.41.0.tar.gz PackageFileSize: 35.26 MiB