Package: PathNetData Version: 1.47.0 Command: /home/biocbuild/bbs-3.23-bioc/R/bin/R CMD INSTALL PathNetData StartedAt: 2025-11-27 10:55:49 -0500 (Thu, 27 Nov 2025) EndedAt: 2025-11-27 10:55:51 -0500 (Thu, 27 Nov 2025) EllapsedTime: 2.0 seconds RetCode: 0 Status: OK