Package: PasillaTranscriptExpr Version: 1.39.0 Command: /home/biocbuild/bbs-3.23-bioc/R/bin/R CMD build --keep-empty-dirs --no-resave-data PasillaTranscriptExpr StartedAt: 2025-11-27 11:34:39 -0500 (Thu, 27 Nov 2025) EndedAt: 2025-11-27 11:34:56 -0500 (Thu, 27 Nov 2025) EllapsedTime: 16.6 seconds RetCode: 0 Status: OK PackageFile: PasillaTranscriptExpr_1.39.0.tar.gz PackageFileSize: 784.2 KiB