Package: FlowSorted.DLPFC.450k Version: 1.47.0 Command: /home/biocbuild/bbs-3.23-bioc/R/bin/R CMD INSTALL FlowSorted.DLPFC.450k StartedAt: 2025-11-27 11:01:41 -0500 (Thu, 27 Nov 2025) EndedAt: 2025-11-27 11:02:45 -0500 (Thu, 27 Nov 2025) EllapsedTime: 64.0 seconds RetCode: 0 Status: OK