Package: FlowSorted.Blood.450k Version: 1.49.0 Command: /home/biocbuild/bbs-3.23-bioc/R/bin/R CMD INSTALL FlowSorted.Blood.450k StartedAt: 2025-11-27 11:01:43 -0500 (Thu, 27 Nov 2025) EndedAt: 2025-11-27 11:02:54 -0500 (Thu, 27 Nov 2025) EllapsedTime: 70.5 seconds RetCode: 0 Status: OK