Package: BloodCancerMultiOmics2017 Version: 1.31.0 Command: /home/biocbuild/bbs-3.23-bioc/R/bin/R CMD build --keep-empty-dirs --no-resave-data BloodCancerMultiOmics2017 StartedAt: 2025-11-27 11:08:15 -0500 (Thu, 27 Nov 2025) EndedAt: 2025-11-27 11:38:51 -0500 (Thu, 27 Nov 2025) EllapsedTime: 1836.4 seconds RetCode: 0 Status: OK PackageFile: BloodCancerMultiOmics2017_1.31.0.tar.gz PackageFileSize: 53.69 MiB