Package: AmpAffyExample Version: 1.51.0 Command: /home/biocbuild/bbs-3.23-bioc/R/bin/R CMD build --keep-empty-dirs --no-resave-data AmpAffyExample StartedAt: 2025-11-27 11:07:35 -0500 (Thu, 27 Nov 2025) EndedAt: 2025-11-27 11:07:37 -0500 (Thu, 27 Nov 2025) EllapsedTime: 2.3 seconds RetCode: 0 Status: OK PackageFile: AmpAffyExample_1.51.0.tar.gz PackageFileSize: 6.464 MiB