Package: AWAggregatorData Version: 1.1.0 Command: /home/biocbuild/bbs-3.23-bioc/R/bin/R CMD build --keep-empty-dirs --no-resave-data AWAggregatorData StartedAt: 2025-11-27 11:07:46 -0500 (Thu, 27 Nov 2025) EndedAt: 2025-11-27 11:08:26 -0500 (Thu, 27 Nov 2025) EllapsedTime: 39.9 seconds RetCode: 0 Status: OK PackageFile: AWAggregatorData_1.1.0.tar.gz PackageFileSize: 220.4 KiB