Package: zebrafishRNASeq Version: 1.30.0 Command: /home/biocbuild/bbs-3.22-bioc/R/bin/R CMD INSTALL zebrafishRNASeq StartedAt: 2025-11-25 10:55:37 -0500 (Tue, 25 Nov 2025) EndedAt: 2025-11-25 10:55:39 -0500 (Tue, 25 Nov 2025) EllapsedTime: 1.3 seconds RetCode: 0 Status: OK