Package: tweeDEseqCountData Version: 1.48.0 Command: /home/biocbuild/bbs-3.22-bioc/R/bin/R CMD INSTALL tweeDEseqCountData StartedAt: 2025-11-25 10:56:15 -0500 (Tue, 25 Nov 2025) EndedAt: 2025-11-25 10:56:18 -0500 (Tue, 25 Nov 2025) EllapsedTime: 3.1 seconds RetCode: 0 Status: OK