Package: spatialDmelxsim Version: 1.16.0 Command: /home/biocbuild/bbs-3.22-bioc/R/bin/R CMD INSTALL spatialDmelxsim StartedAt: 2025-11-27 11:02:15 -0500 (Thu, 27 Nov 2025) EndedAt: 2025-11-27 11:02:47 -0500 (Thu, 27 Nov 2025) EllapsedTime: 32.2 seconds RetCode: 0 Status: OK