Package: spatialDmelxsim Version: 1.16.0 Maintainer: Michael Love MaintainerEmail: michaelisaiahlove at gmail.com git_url: https://git.bioconductor.org/packages/spatialDmelxsim git_branch: RELEASE_3_22 git_last_commit: 28f7c76 git_last_commit_date: 2025-10-29 10:04:09 -0500 (Wed, 29 Oct 2025)