Package: simpIntLists Version: 1.46.0 Command: /home/biocbuild/bbs-3.22-bioc/R/bin/R CMD INSTALL simpIntLists StartedAt: 2025-11-25 10:55:34 -0500 (Tue, 25 Nov 2025) EndedAt: 2025-11-25 10:55:37 -0500 (Tue, 25 Nov 2025) EllapsedTime: 3.2 seconds RetCode: 0 Status: OK