Package: simpIntLists Version: 1.46.0 Command: /home/biocbuild/bbs-3.22-bioc/R/bin/R CMD build --keep-empty-dirs --no-resave-data simpIntLists StartedAt: 2025-11-25 11:42:52 -0500 (Tue, 25 Nov 2025) EndedAt: 2025-11-25 11:43:01 -0500 (Tue, 25 Nov 2025) EllapsedTime: 8.7 seconds RetCode: 0 Status: OK PackageFile: simpIntLists_1.46.0.tar.gz PackageFileSize: 4.366 MiB