Package: sampleClassifierData Version: 1.34.0 Command: /home/biocbuild/bbs-3.22-bioc/R/bin/R CMD INSTALL sampleClassifierData StartedAt: 2025-11-27 10:59:35 -0500 (Thu, 27 Nov 2025) EndedAt: 2025-11-27 10:59:51 -0500 (Thu, 27 Nov 2025) EllapsedTime: 16.7 seconds RetCode: 0 Status: OK