Package: pumadata Version: 2.46.0 Command: /home/biocbuild/bbs-3.22-bioc/R/bin/R CMD INSTALL pumadata StartedAt: 2025-11-25 11:02:33 -0500 (Tue, 25 Nov 2025) EndedAt: 2025-11-25 11:03:02 -0500 (Tue, 25 Nov 2025) EllapsedTime: 28.6 seconds RetCode: 0 Status: OK