Package: pumadata Version: 2.46.0 Command: /home/biocbuild/bbs-3.22-bioc/R/bin/R CMD build --keep-empty-dirs --no-resave-data pumadata StartedAt: 2025-11-25 11:36:34 -0500 (Tue, 25 Nov 2025) EndedAt: 2025-11-25 11:37:16 -0500 (Tue, 25 Nov 2025) EllapsedTime: 42.5 seconds RetCode: 0 Status: OK PackageFile: pumadata_2.46.0.tar.gz PackageFileSize: 101.7 MiB