Package: oct4 Version: 1.26.0 Command: /home/biocbuild/bbs-3.22-bioc/R/bin/R CMD INSTALL oct4 StartedAt: 2025-11-25 10:55:26 -0500 (Tue, 25 Nov 2025) EndedAt: 2025-11-25 10:55:28 -0500 (Tue, 25 Nov 2025) EllapsedTime: 2.1 seconds RetCode: 0 Status: OK