Package: mosaicsExample Version: 1.48.0 Command: /home/biocbuild/bbs-3.22-bioc/R/bin/R CMD build --keep-empty-dirs --no-resave-data mosaicsExample StartedAt: 2025-11-25 11:30:55 -0500 (Tue, 25 Nov 2025) EndedAt: 2025-11-25 11:31:13 -0500 (Tue, 25 Nov 2025) EllapsedTime: 17.9 seconds RetCode: 0 Status: OK PackageFile: mosaicsExample_1.48.0.tar.gz PackageFileSize: 48.06 MiB