Package: microbiomeDataSets Version: 1.18.0 Command: /home/biocbuild/bbs-3.22-bioc/R/bin/R CMD build --keep-empty-dirs --no-resave-data microbiomeDataSets StartedAt: 2025-11-25 11:30:19 -0500 (Tue, 25 Nov 2025) EndedAt: 2025-11-25 11:31:03 -0500 (Tue, 25 Nov 2025) EllapsedTime: 44.4 seconds RetCode: 0 Status: OK PackageFile: microbiomeDataSets_1.18.0.tar.gz PackageFileSize: 234.9 KiB