Package: miRcompData Version: 1.40.0 Command: /home/biocbuild/bbs-3.22-bioc/R/bin/R CMD INSTALL miRcompData StartedAt: 2025-11-25 10:55:16 -0500 (Tue, 25 Nov 2025) EndedAt: 2025-11-25 10:55:18 -0500 (Tue, 25 Nov 2025) EllapsedTime: 2.0 seconds RetCode: 0 Status: OK