Package: mCSEAdata Version: 1.30.0 Command: /home/biocbuild/bbs-3.22-bioc/R/bin/R CMD INSTALL mCSEAdata StartedAt: 2025-11-25 10:57:58 -0500 (Tue, 25 Nov 2025) EndedAt: 2025-11-25 10:59:44 -0500 (Tue, 25 Nov 2025) EllapsedTime: 106.4 seconds RetCode: 0 Status: OK