Package: mCSEAdata Version: 1.30.0 Command: /home/biocbuild/bbs-3.22-bioc/R/bin/R CMD build --keep-empty-dirs --no-resave-data mCSEAdata StartedAt: 2025-11-25 11:28:08 -0500 (Tue, 25 Nov 2025) EndedAt: 2025-11-25 11:30:11 -0500 (Tue, 25 Nov 2025) EllapsedTime: 122.9 seconds RetCode: 0 Status: OK PackageFile: mCSEAdata_1.30.0.tar.gz PackageFileSize: 25.04 MiB