Package: lungExpression Version: 0.48.0 Command: /home/biocbuild/bbs-3.22-bioc/R/bin/R CMD build --keep-empty-dirs --no-resave-data lungExpression StartedAt: 2025-11-25 11:27:28 -0500 (Tue, 25 Nov 2025) EndedAt: 2025-11-25 11:27:29 -0500 (Tue, 25 Nov 2025) EllapsedTime: 1.3 seconds RetCode: 0 Status: OK PackageFile: lungExpression_0.48.0.tar.gz PackageFileSize: 5.681 MiB