Package: imcdatasets Version: 1.18.0 Maintainer: Nicolas Damond MaintainerEmail: nicolas.damond at dqbm.uzh.ch git_url: https://git.bioconductor.org/packages/imcdatasets git_branch: RELEASE_3_22 git_last_commit: 3f44c7c git_last_commit_date: 2025-10-29 10:03:12 -0500 (Wed, 29 Oct 2025)