Package: iModMixData Version: 1.0.0 Command: /home/biocbuild/bbs-3.22-bioc/R/bin/R CMD INSTALL iModMixData StartedAt: 2025-11-25 10:57:27 -0500 (Tue, 25 Nov 2025) EndedAt: 2025-11-25 10:57:29 -0500 (Tue, 25 Nov 2025) EllapsedTime: 1.3 seconds RetCode: 0 Status: OK