Package: hapmapsnp6 Version: 1.52.0 Command: /home/biocbuild/bbs-3.22-bioc/R/bin/R CMD INSTALL hapmapsnp6 StartedAt: 2025-11-25 10:55:28 -0500 (Tue, 25 Nov 2025) EndedAt: 2025-11-25 10:55:51 -0500 (Tue, 25 Nov 2025) EllapsedTime: 22.6 seconds RetCode: 0 Status: OK