Package: hapmap500ksty Version: 1.52.0 Command: /home/biocbuild/bbs-3.22-bioc/R/bin/R CMD build --keep-empty-dirs --no-resave-data hapmap500ksty StartedAt: 2025-11-25 11:20:49 -0500 (Tue, 25 Nov 2025) EndedAt: 2025-11-25 11:23:23 -0500 (Tue, 25 Nov 2025) EllapsedTime: 154.0 seconds RetCode: 0 Status: OK PackageFile: hapmap500ksty_1.52.0.tar.gz PackageFileSize: 77.63 MiB