Package: hapmap500knsp Version: 1.52.0 Command: /home/biocbuild/bbs-3.22-bioc/R/bin/R CMD build --keep-empty-dirs --no-resave-data hapmap500knsp StartedAt: 2025-11-25 11:20:41 -0500 (Tue, 25 Nov 2025) EndedAt: 2025-11-25 11:23:22 -0500 (Tue, 25 Nov 2025) EllapsedTime: 160.9 seconds RetCode: 0 Status: OK PackageFile: hapmap500knsp_1.52.0.tar.gz PackageFileSize: 80.39 MiB