Package: hapmap100khind Version: 1.52.0 Command: /home/biocbuild/bbs-3.22-bioc/R/bin/R CMD INSTALL hapmap100khind StartedAt: 2025-11-25 10:55:43 -0500 (Tue, 25 Nov 2025) EndedAt: 2025-11-25 10:55:45 -0500 (Tue, 25 Nov 2025) EllapsedTime: 2.0 seconds RetCode: 0 Status: OK