Package: flowWorkspaceData Version: 3.22.0 Command: /home/biocbuild/bbs-3.22-bioc/R/bin/R CMD INSTALL flowWorkspaceData StartedAt: 2025-11-25 10:55:39 -0500 (Tue, 25 Nov 2025) EndedAt: 2025-11-25 10:55:42 -0500 (Tue, 25 Nov 2025) EllapsedTime: 3.0 seconds RetCode: 0 Status: OK