Package: eoPredData Version: 1.4.0 Command: /home/biocbuild/bbs-3.22-bioc/R/bin/R CMD INSTALL eoPredData StartedAt: 2025-11-25 10:56:52 -0500 (Tue, 25 Nov 2025) EndedAt: 2025-11-25 10:57:07 -0500 (Tue, 25 Nov 2025) EllapsedTime: 14.3 seconds RetCode: 0 Status: OK