Package: diffloopdata Version: 1.38.0 Maintainer: Caleb Lareau MaintainerEmail: caleblareau at g.harvard.edu git_url: https://git.bioconductor.org/packages/diffloopdata git_branch: RELEASE_3_22 git_last_commit: e0b8f2c git_last_commit_date: 2025-10-29 09:58:25 -0500 (Wed, 29 Oct 2025)