Package: curatedPCaData Version: 1.6.0 Command: /home/biocbuild/bbs-3.22-bioc/R/bin/R CMD build --keep-empty-dirs --no-resave-data curatedPCaData StartedAt: 2025-11-25 11:12:36 -0500 (Tue, 25 Nov 2025) EndedAt: 2025-11-25 11:18:45 -0500 (Tue, 25 Nov 2025) EllapsedTime: 368.7 seconds RetCode: 0 Status: OK PackageFile: curatedPCaData_1.6.0.tar.gz PackageFileSize: 2.936 MiB