Package: curatedCRCData Version: 2.42.0 Command: /home/biocbuild/bbs-3.22-bioc/R/bin/R CMD INSTALL curatedCRCData StartedAt: 2025-11-25 10:56:20 -0500 (Tue, 25 Nov 2025) EndedAt: 2025-11-25 10:56:26 -0500 (Tue, 25 Nov 2025) EllapsedTime: 6.3 seconds RetCode: 0 Status: OK