Package: curatedBladderData Version: 1.46.0 Command: /home/biocbuild/bbs-3.22-bioc/R/bin/R CMD build --keep-empty-dirs --no-resave-data curatedBladderData StartedAt: 2025-11-25 11:11:46 -0500 (Tue, 25 Nov 2025) EndedAt: 2025-11-25 11:12:18 -0500 (Tue, 25 Nov 2025) EllapsedTime: 31.7 seconds RetCode: 0 Status: OK PackageFile: curatedBladderData_1.46.0.tar.gz PackageFileSize: 74.8 MiB